Package: EpiMix Version: 1.9.0 Command: /Library/Frameworks/R.framework/Resources/bin/R CMD check --install=check:EpiMix.install-out.txt --library=/Library/Frameworks/R.framework/Resources/library --no-vignettes --timings EpiMix_1.9.0.tar.gz StartedAt: 2025-02-09 20:32:55 -0500 (Sun, 09 Feb 2025) EndedAt: 2025-02-09 20:41:30 -0500 (Sun, 09 Feb 2025) EllapsedTime: 515.2 seconds RetCode: 0 Status: OK CheckDir: EpiMix.Rcheck Warnings: 0