Package: EpiMix Version: 1.9.0 Command: /Library/Frameworks/R.framework/Resources/bin/R CMD INSTALL EpiMix StartedAt: 2025-02-03 15:35:07 -0500 (Mon, 03 Feb 2025) EndedAt: 2025-02-03 15:36:01 -0500 (Mon, 03 Feb 2025) EllapsedTime: 53.8 seconds RetCode: 0 Status: OK