Package: EpiMix Version: 1.9.0 Command: /home/biocbuild/bbs-3.21-bioc/R/bin/R CMD build --keep-empty-dirs --no-resave-data EpiMix StartedAt: 2025-02-09 17:09:05 -0500 (Sun, 09 Feb 2025) EndedAt: 2025-02-09 17:15:01 -0500 (Sun, 09 Feb 2025) EllapsedTime: 356.0 seconds RetCode: 0 Status: OK PackageFile: EpiMix_1.9.0.tar.gz PackageFileSize: 2.834 MiB