Package: EpiMix Version: 1.9.0 Command: /home/biocbuild/bbs-3.21-bioc/R/bin/R CMD check --install=check:EpiMix.install-out.txt --library=/home/biocbuild/bbs-3.21-bioc/R/site-library --timings EpiMix_1.9.0.tar.gz StartedAt: 2025-02-09 22:04:51 -0500 (Sun, 09 Feb 2025) EndedAt: 2025-02-09 22:18:00 -0500 (Sun, 09 Feb 2025) EllapsedTime: 789.1 seconds RetCode: 0 Status: OK CheckDir: EpiMix.Rcheck Warnings: 0