Package: EpiMix Version: 1.9.0 Command: rm -rf EpiMix.buildbin-libdir && mkdir EpiMix.buildbin-libdir && E:\biocbuild\bbs-3.21-bioc\R\bin\R.exe CMD INSTALL --build --library=EpiMix.buildbin-libdir EpiMix_1.9.0.tar.gz StartedAt: 2025-02-10 07:42:10 -0500 (Mon, 10 Feb 2025) EndedAt: 2025-02-10 07:43:09 -0500 (Mon, 10 Feb 2025) EllapsedTime: 59.1 seconds RetCode: 0 Status: OK PackageFile: EpiMix_1.9.0.zip PackageFileSize: 1.917 MiB