Package: EpipwR Version: 1.1.0 Command: rm -rf EpipwR.buildbin-libdir && mkdir EpipwR.buildbin-libdir && /Users/biocbuild/BBS/utils/build-universal.sh EpipwR_1.1.0.tar.gz /Library/Frameworks/R.framework/Resources/bin/R EpipwR.buildbin-libdir StartedAt: 2025-02-09 22:13:33 -0500 (Sun, 09 Feb 2025) EndedAt: 2025-02-09 22:13:40 -0500 (Sun, 09 Feb 2025) EllapsedTime: 7.1 seconds RetCode: 0 Status: OK PackageFile: EpipwR_1.1.0.tgz PackageFileSize: 115.7 KiB