Package: EpipwR Version: 1.1.0 Command: /Library/Frameworks/R.framework/Resources/bin/R CMD check --install=check:EpipwR.install-out.txt --library=/Library/Frameworks/R.framework/Resources/library --no-vignettes --timings EpipwR_1.1.0.tar.gz StartedAt: 2025-02-09 19:07:12 -0500 (Sun, 09 Feb 2025) EndedAt: 2025-02-09 19:08:18 -0500 (Sun, 09 Feb 2025) EllapsedTime: 65.7 seconds RetCode: 0 Status: OK CheckDir: EpipwR.Rcheck Warnings: 0