Package: EpipwR Version: 1.1.0 Command: /Library/Frameworks/R.framework/Resources/bin/R CMD INSTALL EpipwR StartedAt: 2025-02-09 15:08:57 -0500 (Sun, 09 Feb 2025) EndedAt: 2025-02-09 15:09:04 -0500 (Sun, 09 Feb 2025) EllapsedTime: 6.5 seconds RetCode: 0 Status: OK