Package: EpipwR Version: 1.1.0 Command: /home/biocbuild/R/R/bin/R CMD build --keep-empty-dirs --no-resave-data EpipwR StartedAt: 2025-01-28 22:44:19 -0000 (Tue, 28 Jan 2025) EndedAt: 2025-01-28 22:44:47 -0000 (Tue, 28 Jan 2025) EllapsedTime: 28.0 seconds RetCode: 0 Status: OK PackageFile: EpipwR_1.1.0.tar.gz PackageFileSize: 122.9 KiB