Package: EpipwR Version: 1.1.0 Command: /home/biocbuild/R/R/bin/R CMD INSTALL EpipwR StartedAt: 2025-01-29 19:50:10 -0000 (Wed, 29 Jan 2025) EndedAt: 2025-01-29 19:50:31 -0000 (Wed, 29 Jan 2025) EllapsedTime: 20.9 seconds RetCode: 0 Status: OK