Package: EpipwR Version: 1.1.0 Command: rm -rf EpipwR.buildbin-libdir && mkdir EpipwR.buildbin-libdir && /Users/biocbuild/BBS/utils/build-universal.sh EpipwR_1.1.0.tar.gz /Library/Frameworks/R.framework/Resources/bin/R EpipwR.buildbin-libdir StartedAt: 2025-02-10 00:52:24 -0500 (Mon, 10 Feb 2025) EndedAt: 2025-02-10 00:52:46 -0500 (Mon, 10 Feb 2025) EllapsedTime: 22.0 seconds RetCode: 0 Status: OK PackageFile: EpipwR_1.1.0.tgz PackageFileSize: 114.7 KiB