Package: EpipwR Version: 1.1.0 Command: /Library/Frameworks/R.framework/Resources/bin/R CMD build --keep-empty-dirs --no-resave-data EpipwR StartedAt: 2025-02-03 16:42:20 -0500 (Mon, 03 Feb 2025) EndedAt: 2025-02-03 16:42:44 -0500 (Mon, 03 Feb 2025) EllapsedTime: 24.0 seconds RetCode: 0 Status: OK PackageFile: EpipwR_1.1.0.tar.gz PackageFileSize: 122.4 KiB