Package: EpipwR Version: 1.1.0 Command: /Library/Frameworks/R.framework/Resources/bin/R CMD INSTALL EpipwR StartedAt: 2025-02-09 15:16:34 -0500 (Sun, 09 Feb 2025) EndedAt: 2025-02-09 15:16:54 -0500 (Sun, 09 Feb 2025) EllapsedTime: 19.6 seconds RetCode: 0 Status: OK