Package: EpipwR Version: 1.1.0 Command: /home/biocbuild/bbs-3.21-bioc/R/bin/R CMD build --keep-empty-dirs --no-resave-data EpipwR StartedAt: 2025-02-09 17:09:27 -0500 (Sun, 09 Feb 2025) EndedAt: 2025-02-09 17:09:47 -0500 (Sun, 09 Feb 2025) EllapsedTime: 20.1 seconds RetCode: 0 Status: OK PackageFile: EpipwR_1.1.0.tar.gz PackageFileSize: 122.4 KiB