Package: EpipwR Version: 1.1.0 Command: /home/biocbuild/bbs-3.21-bioc/R/bin/R CMD check --install=check:EpipwR.install-out.txt --library=/home/biocbuild/bbs-3.21-bioc/R/site-library --timings EpipwR_1.1.0.tar.gz StartedAt: 2025-02-09 22:05:04 -0500 (Sun, 09 Feb 2025) EndedAt: 2025-02-09 22:07:36 -0500 (Sun, 09 Feb 2025) EllapsedTime: 152.2 seconds RetCode: 0 Status: OK CheckDir: EpipwR.Rcheck Warnings: 0