Package: EpipwR Version: 1.1.0 Command: /home/biocbuild/bbs-3.21-bioc/R/bin/R CMD INSTALL EpipwR StartedAt: 2025-02-03 15:35:33 -0500 (Mon, 03 Feb 2025) EndedAt: 2025-02-03 15:35:48 -0500 (Mon, 03 Feb 2025) EllapsedTime: 14.6 seconds RetCode: 0 Status: OK