Package: EpipwR Version: 1.1.0 Command: chmod a+r EpipwR -R && E:\biocbuild\bbs-3.21-bioc\R\bin\R.exe CMD build --keep-empty-dirs --no-resave-data EpipwR StartedAt: 2025-02-03 18:46:46 -0500 (Mon, 03 Feb 2025) EndedAt: 2025-02-03 18:47:10 -0500 (Mon, 03 Feb 2025) EllapsedTime: 24.5 seconds RetCode: 0 Status: OK PackageFile: EpipwR_1.1.0.tar.gz PackageFileSize: 122.4 KiB