Package: EpipwR Version: 1.1.0 Command: E:\biocbuild\bbs-3.21-bioc\R\bin\R.exe CMD check --no-multiarch --install=check:EpipwR.install-out.txt --library=E:\biocbuild\bbs-3.21-bioc\R\library --no-vignettes --timings EpipwR_1.1.0.tar.gz StartedAt: 2025-02-10 00:52:07 -0500 (Mon, 10 Feb 2025) EndedAt: 2025-02-10 00:56:39 -0500 (Mon, 10 Feb 2025) EllapsedTime: 271.7 seconds RetCode: 0 Status: OK CheckDir: EpipwR.Rcheck Warnings: 0