Package: EventPointer Version: 3.15.0 Command: /Library/Frameworks/R.framework/Resources/bin/R CMD check --install=check:EventPointer.install-out.txt --library=/Library/Frameworks/R.framework/Resources/library --no-vignettes --timings EventPointer_3.15.0.tar.gz StartedAt: 2025-02-12 19:14:20 -0500 (Wed, 12 Feb 2025) EndedAt: 2025-02-12 19:16:24 -0500 (Wed, 12 Feb 2025) EllapsedTime: 124.6 seconds RetCode: 0 Status: OK CheckDir: EventPointer.Rcheck Warnings: 0