Package: EventPointer Version: 3.15.0 Command: /Library/Frameworks/R.framework/Resources/bin/R CMD build --keep-empty-dirs --no-resave-data EventPointer StartedAt: 2025-02-09 16:42:57 -0500 (Sun, 09 Feb 2025) EndedAt: 2025-02-09 16:44:23 -0500 (Sun, 09 Feb 2025) EllapsedTime: 86.6 seconds RetCode: 0 Status: OK PackageFile: EventPointer_3.15.0.tar.gz PackageFileSize: 1.642 MiB