Package: EventPointer Version: 3.15.0 Command: /Library/Frameworks/R.framework/Resources/bin/R CMD check --install=check:EventPointer.install-out.txt --library=/Library/Frameworks/R.framework/Resources/library --no-vignettes --timings EventPointer_3.15.0.tar.gz StartedAt: 2025-02-09 20:37:01 -0500 (Sun, 09 Feb 2025) EndedAt: 2025-02-09 20:44:06 -0500 (Sun, 09 Feb 2025) EllapsedTime: 425.0 seconds RetCode: 0 Status: OK CheckDir: EventPointer.Rcheck Warnings: 0