Package: EventPointer Version: 3.15.0 Command: /Library/Frameworks/R.framework/Resources/bin/R CMD INSTALL EventPointer StartedAt: 2025-02-12 15:36:30 -0500 (Wed, 12 Feb 2025) EndedAt: 2025-02-12 15:37:40 -0500 (Wed, 12 Feb 2025) EllapsedTime: 69.7 seconds RetCode: 0 Status: OK