Package: EventPointer Version: 3.15.0 Command: /home/biocbuild/bbs-3.21-bioc/R/bin/R CMD build --keep-empty-dirs --no-resave-data EventPointer StartedAt: 2025-02-12 17:09:01 -0500 (Wed, 12 Feb 2025) EndedAt: 2025-02-12 17:10:17 -0500 (Wed, 12 Feb 2025) EllapsedTime: 76.4 seconds RetCode: 0 Status: OK PackageFile: EventPointer_3.15.0.tar.gz PackageFileSize: 1.642 MiB