Package: EventPointer Version: 3.15.0 Command: E:\biocbuild\bbs-3.21-bioc\R\bin\R.exe CMD INSTALL EventPointer StartedAt: 2025-02-09 16:35:06 -0500 (Sun, 09 Feb 2025) EndedAt: 2025-02-09 16:36:42 -0500 (Sun, 09 Feb 2025) EllapsedTime: 95.9 seconds RetCode: 0 Status: OK