Package: ExCluster Version: 1.25.0 Command: /home/biocbuild/bbs-3.21-bioc/R/bin/R CMD check --install=check:ExCluster.install-out.txt --library=/home/biocbuild/bbs-3.21-bioc/R/site-library --timings ExCluster_1.25.0.tar.gz StartedAt: 2025-02-09 22:13:06 -0500 (Sun, 09 Feb 2025) EndedAt: 2025-02-09 22:16:40 -0500 (Sun, 09 Feb 2025) EllapsedTime: 214.2 seconds RetCode: 0 Status: OK CheckDir: ExCluster.Rcheck Warnings: 0