Package: ExiMiR Version: 2.49.0 Command: /home/biocbuild/R/R/bin/R CMD INSTALL ExiMiR StartedAt: 2025-01-29 19:34:35 -0000 (Wed, 29 Jan 2025) EndedAt: 2025-01-29 19:34:54 -0000 (Wed, 29 Jan 2025) EllapsedTime: 19.0 seconds RetCode: 0 Status: OK