Package: ExiMiR Version: 2.49.0 Command: chmod a+r ExiMiR -R && E:\biocbuild\bbs-3.21-bioc\R\bin\R.exe CMD build --keep-empty-dirs --no-resave-data ExiMiR StartedAt: 2025-02-09 18:39:14 -0500 (Sun, 09 Feb 2025) EndedAt: 2025-02-09 18:40:58 -0500 (Sun, 09 Feb 2025) EllapsedTime: 104.0 seconds RetCode: 0 Status: OK PackageFile: ExiMiR_2.49.0.tar.gz PackageFileSize: 1.22 MiB