Package: ExiMiR Version: 2.49.0 Command: E:\biocbuild\bbs-3.21-bioc\R\bin\R.exe CMD check --no-multiarch --install=check:ExiMiR.install-out.txt --library=E:\biocbuild\bbs-3.21-bioc\R\library --no-vignettes --timings ExiMiR_2.49.0.tar.gz StartedAt: 2025-02-10 01:00:31 -0500 (Mon, 10 Feb 2025) EndedAt: 2025-02-10 01:01:54 -0500 (Mon, 10 Feb 2025) EllapsedTime: 83.1 seconds RetCode: 0 Status: OK CheckDir: ExiMiR.Rcheck Warnings: 0