Package: ExperimentHub Version: 2.15.0 Command: rm -rf ExperimentHub.buildbin-libdir && mkdir ExperimentHub.buildbin-libdir && /Users/biocbuild/BBS/utils/build-universal.sh ExperimentHub_2.15.0.tar.gz /Library/Frameworks/R.framework/Resources/bin/R ExperimentHub.buildbin-libdir StartedAt: 2025-02-09 22:14:02 -0500 (Sun, 09 Feb 2025) EndedAt: 2025-02-09 22:14:09 -0500 (Sun, 09 Feb 2025) EllapsedTime: 7.1 seconds RetCode: 0 Status: OK PackageFile: ExperimentHub_2.15.0.tgz PackageFileSize: 421.1 KiB