Package: ExperimentHub Version: 2.15.0 Command: /Library/Frameworks/R.framework/Resources/bin/R CMD check --install=check:ExperimentHub.install-out.txt --library=/Library/Frameworks/R.framework/Resources/library --no-vignettes --timings ExperimentHub_2.15.0.tar.gz StartedAt: 2025-02-09 19:10:44 -0500 (Sun, 09 Feb 2025) EndedAt: 2025-02-09 19:11:26 -0500 (Sun, 09 Feb 2025) EllapsedTime: 42.5 seconds RetCode: 0 Status: WARNINGS CheckDir: ExperimentHub.Rcheck Warnings: 1