Package: ExperimentHub Version: 2.15.0 Command: /Library/Frameworks/R.framework/Resources/bin/R CMD INSTALL ExperimentHub StartedAt: 2025-02-04 15:09:23 -0500 (Tue, 04 Feb 2025) EndedAt: 2025-02-04 15:09:29 -0500 (Tue, 04 Feb 2025) EllapsedTime: 6.4 seconds RetCode: 0 Status: OK