Package: ExperimentHub Version: 2.15.0 Command: /home/biocbuild/R/R/bin/R CMD INSTALL ExperimentHub StartedAt: 2025-01-29 19:49:28 -0000 (Wed, 29 Jan 2025) EndedAt: 2025-01-29 19:49:48 -0000 (Wed, 29 Jan 2025) EllapsedTime: 20.1 seconds RetCode: 0 Status: OK