Package: ExperimentHub Version: 2.15.0 Command: rm -rf ExperimentHub.buildbin-libdir && mkdir ExperimentHub.buildbin-libdir && /Users/biocbuild/BBS/utils/build-universal.sh ExperimentHub_2.15.0.tar.gz /Library/Frameworks/R.framework/Resources/bin/R ExperimentHub.buildbin-libdir StartedAt: 2025-02-10 00:52:55 -0500 (Mon, 10 Feb 2025) EndedAt: 2025-02-10 00:53:17 -0500 (Mon, 10 Feb 2025) EllapsedTime: 22.0 seconds RetCode: 0 Status: OK PackageFile: ExperimentHub_2.15.0.tgz PackageFileSize: 420.8 KiB