Package: ExperimentHub Version: 2.15.0 Command: /Library/Frameworks/R.framework/Resources/bin/R CMD build --keep-empty-dirs --no-resave-data ExperimentHub StartedAt: 2025-02-09 16:43:55 -0500 (Sun, 09 Feb 2025) EndedAt: 2025-02-09 16:44:32 -0500 (Sun, 09 Feb 2025) EllapsedTime: 37.7 seconds RetCode: 0 Status: OK PackageFile: ExperimentHub_2.15.0.tar.gz PackageFileSize: 488.8 KiB