Package: ExperimentHub Version: 2.15.0 Command: /Library/Frameworks/R.framework/Resources/bin/R CMD INSTALL ExperimentHub StartedAt: 2025-02-04 15:15:55 -0500 (Tue, 04 Feb 2025) EndedAt: 2025-02-04 15:16:19 -0500 (Tue, 04 Feb 2025) EllapsedTime: 23.2 seconds RetCode: 0 Status: OK