Package: ExperimentHub Version: 2.15.0 Command: /home/biocbuild/bbs-3.21-bioc/R/bin/R CMD build --keep-empty-dirs --no-resave-data ExperimentHub StartedAt: 2025-02-04 17:10:52 -0500 (Tue, 04 Feb 2025) EndedAt: 2025-02-04 17:11:25 -0500 (Tue, 04 Feb 2025) EllapsedTime: 33.2 seconds RetCode: 0 Status: OK PackageFile: ExperimentHub_2.15.0.tar.gz PackageFileSize: 489 KiB