Package: ExperimentHub Version: 2.15.0 Command: /home/biocbuild/bbs-3.21-bioc/R/bin/R CMD check --install=check:ExperimentHub.install-out.txt --library=/home/biocbuild/bbs-3.21-bioc/R/site-library --timings ExperimentHub_2.15.0.tar.gz StartedAt: 2025-02-04 22:13:22 -0500 (Tue, 04 Feb 2025) EndedAt: 2025-02-04 22:15:25 -0500 (Tue, 04 Feb 2025) EllapsedTime: 123.1 seconds RetCode: 0 Status: WARNINGS CheckDir: ExperimentHub.Rcheck Warnings: 1