Package: ExperimentHub Version: 2.15.0 Command: /home/biocbuild/bbs-3.21-bioc/R/bin/R CMD INSTALL ExperimentHub StartedAt: 2025-02-04 15:23:47 -0500 (Tue, 04 Feb 2025) EndedAt: 2025-02-04 15:24:01 -0500 (Tue, 04 Feb 2025) EllapsedTime: 14.3 seconds RetCode: 0 Status: OK