Package: ExperimentHub Version: 2.15.0 Command: rm -rf ExperimentHub.buildbin-libdir && mkdir ExperimentHub.buildbin-libdir && E:\biocbuild\bbs-3.21-bioc\R\bin\R.exe CMD INSTALL --build --library=ExperimentHub.buildbin-libdir ExperimentHub_2.15.0.tar.gz StartedAt: 2025-02-05 07:55:34 -0500 (Wed, 05 Feb 2025) EndedAt: 2025-02-05 07:56:03 -0500 (Wed, 05 Feb 2025) EllapsedTime: 28.7 seconds RetCode: 0 Status: OK PackageFile: ExperimentHub_2.15.0.zip PackageFileSize: 425.2 KiB