Package: ExperimentHub Version: 2.15.0 Command: chmod a+r ExperimentHub -R && E:\biocbuild\bbs-3.21-bioc\R\bin\R.exe CMD build --keep-empty-dirs --no-resave-data ExperimentHub StartedAt: 2025-02-04 18:41:08 -0500 (Tue, 04 Feb 2025) EndedAt: 2025-02-04 18:44:04 -0500 (Tue, 04 Feb 2025) EllapsedTime: 176.1 seconds RetCode: 0 Status: OK PackageFile: ExperimentHub_2.15.0.tar.gz PackageFileSize: 489 KiB