Package: ExperimentHubData Version: 1.33.0 Command: /home/biocbuild/R/R/bin/R CMD build --keep-empty-dirs --no-resave-data ExperimentHubData StartedAt: 2025-01-28 22:50:34 -0000 (Tue, 28 Jan 2025) EndedAt: 2025-01-28 22:51:31 -0000 (Tue, 28 Jan 2025) EllapsedTime: 57.0 seconds RetCode: 0 Status: OK PackageFile: ExperimentHubData_1.33.0.tar.gz PackageFileSize: 247 KiB