Package: ExperimentHubData Version: 1.33.0 Command: /home/biocbuild/R/R/bin/R CMD INSTALL ExperimentHubData StartedAt: 2025-01-29 20:05:00 -0000 (Wed, 29 Jan 2025) EndedAt: 2025-01-29 20:05:56 -0000 (Wed, 29 Jan 2025) EllapsedTime: 56.3 seconds RetCode: 0 Status: OK