Package: ExperimentHubData Version: 1.33.0 Command: /home/biocbuild/bbs-3.21-bioc/R/bin/R CMD check --install=check:ExperimentHubData.install-out.txt --library=/home/biocbuild/bbs-3.21-bioc/R/site-library --timings ExperimentHubData_1.33.0.tar.gz StartedAt: 2025-02-09 22:13:32 -0500 (Sun, 09 Feb 2025) EndedAt: 2025-02-09 22:18:08 -0500 (Sun, 09 Feb 2025) EllapsedTime: 276.4 seconds RetCode: 0 Status: WARNINGS CheckDir: ExperimentHubData.Rcheck Warnings: 1