Package: ExperimentHubData Version: 1.33.0 Command: rm -rf ExperimentHubData.buildbin-libdir && mkdir ExperimentHubData.buildbin-libdir && E:\biocbuild\bbs-3.21-bioc\R\bin\R.exe CMD INSTALL --build --library=ExperimentHubData.buildbin-libdir ExperimentHubData_1.33.0.tar.gz StartedAt: 2025-02-10 07:43:49 -0500 (Mon, 10 Feb 2025) EndedAt: 2025-02-10 07:44:40 -0500 (Mon, 10 Feb 2025) EllapsedTime: 50.8 seconds RetCode: 0 Status: OK PackageFile: ExperimentHubData_1.33.0.zip PackageFileSize: 522.4 KiB