Package: ExperimentHubData Version: 1.33.0 Command: chmod a+r ExperimentHubData -R && E:\biocbuild\bbs-3.21-bioc\R\bin\R.exe CMD build --keep-empty-dirs --no-resave-data ExperimentHubData StartedAt: 2025-02-04 18:41:24 -0500 (Tue, 04 Feb 2025) EndedAt: 2025-02-04 18:42:22 -0500 (Tue, 04 Feb 2025) EllapsedTime: 57.6 seconds RetCode: 0 Status: OK PackageFile: ExperimentHubData_1.33.0.tar.gz PackageFileSize: 223.1 KiB