Package: ExperimentHubData Version: 1.33.0 Command: E:\biocbuild\bbs-3.21-bioc\R\bin\R.exe CMD INSTALL ExperimentHubData StartedAt: 2025-02-09 16:33:32 -0500 (Sun, 09 Feb 2025) EndedAt: 2025-02-09 16:34:30 -0500 (Sun, 09 Feb 2025) EllapsedTime: 57.5 seconds RetCode: 0 Status: OK