Package: ExploreModelMatrix Version: 1.19.2 Command: /Library/Frameworks/R.framework/Resources/bin/R CMD INSTALL ExploreModelMatrix StartedAt: 2025-02-09 15:15:34 -0500 (Sun, 09 Feb 2025) EndedAt: 2025-02-09 15:15:37 -0500 (Sun, 09 Feb 2025) EllapsedTime: 3.5 seconds RetCode: 0 Status: OK