Package: ExploreModelMatrix Version: 1.19.2 Command: rm -rf ExploreModelMatrix.buildbin-libdir && mkdir ExploreModelMatrix.buildbin-libdir && /Users/biocbuild/BBS/utils/build-universal.sh ExploreModelMatrix_1.19.2.tar.gz /Library/Frameworks/R.framework/Resources/bin/R ExploreModelMatrix.buildbin-libdir StartedAt: 2025-02-10 00:53:02 -0500 (Mon, 10 Feb 2025) EndedAt: 2025-02-10 00:53:17 -0500 (Mon, 10 Feb 2025) EllapsedTime: 15.0 seconds RetCode: 0 Status: OK PackageFile: ExploreModelMatrix_1.19.2.tgz PackageFileSize: 2.67 MiB