Package: ExploreModelMatrix Version: 1.19.2 Command: /home/biocbuild/bbs-3.21-bioc/R/bin/R CMD check --install=check:ExploreModelMatrix.install-out.txt --library=/home/biocbuild/bbs-3.21-bioc/R/site-library --timings ExploreModelMatrix_1.19.2.tar.gz StartedAt: 2025-02-09 22:14:27 -0500 (Sun, 09 Feb 2025) EndedAt: 2025-02-09 22:15:35 -0500 (Sun, 09 Feb 2025) EllapsedTime: 68.1 seconds RetCode: 0 Status: OK CheckDir: ExploreModelMatrix.Rcheck Warnings: 0