Package: ExploreModelMatrix Version: 1.19.2 Command: /home/biocbuild/bbs-3.21-bioc/R/bin/R CMD INSTALL ExploreModelMatrix StartedAt: 2025-02-09 15:12:45 -0500 (Sun, 09 Feb 2025) EndedAt: 2025-02-09 15:12:54 -0500 (Sun, 09 Feb 2025) EllapsedTime: 9.0 seconds RetCode: 0 Status: OK